BEGIN:VCALENDAR
VERSION:2.0
PRODID:-//IRF India Chapter - ECPv5.16.1.1//NONSGML v1.0//EN
CALSCALE:GREGORIAN
METHOD:PUBLISH
X-ORIGINAL-URL:https://indiairf.com
X-WR-CALDESC:Events for IRF India Chapter
REFRESH-INTERVAL;VALUE=DURATION:PT1H
X-Robots-Tag:noindex
X-PUBLISHED-TTL:PT1H
BEGIN:VTIMEZONE
TZID:Asia/Kolkata
BEGIN:STANDARD
TZOFFSETFROM:+0530
TZOFFSETTO:+0530
TZNAME:IST
DTSTART:20210101T000000
END:STANDARD
END:VTIMEZONE
BEGIN:VEVENT
DTSTART;TZID=Asia/Kolkata:20210518T163000
DTEND;TZID=Asia/Kolkata:20210518T190000
DTSTAMP:20260425T071150
CREATED:20210408T070430Z
LAST-MODIFIED:20210902T051536Z
UID:25282-1621355400-1621364400@indiairf.com
SUMMARY:4th Webinar on the subject "Road Safety Management and Action Plan"
DESCRIPTION:IRF India Chapter organised the 4th Webinar titled “Road Safety Management and Action Plan” on 18th May 2021 from 16:30 – 19:00 Hrs. \n\n\n\n\n\n\nFLYER\n\n\n\n\n\n\nAt the outset\, Mr. K.K. Kapila\,  President (Emeritus)\, IRF Geneva introduced the Webinar.  \n\n\n\nThe Webinar was moderated by Dr. Shomik Raj Mehndiratta\, Practice Manager\, Transport – South Asia\, The World Bank and had four eminent Speakers as follows:- \n\n\n\nThe Guest Speaker at the Webinar was Mr. R.K. Pandey\, Member (Projects)\, National Highways Authority of India. \n\n\n\nWelcoming and introducing the guest speaker at the Webinar\, Dr. S. Gangopadhyay\, Chairman\, IRF India Chapter made his Introductory remarks. \n\n\n\n1. Mr.Kailash C. Tiwari\, Consultant\, Australia (Topic : Safe System Approach and Global Performance Targets) \n\n\n\n2. Mr. Krishnan Srinivasan\, Sr. Road Safety Consultant\, The World Bank (Topic: Development of Capacity for Road Safety Management) \n\n\n\n3. Dr. S.M. Sarin\, Former Scientist-G\, CRRI (Topic : Traffic Calming Measures for Enhancing Safety) \n\n\n\n4. Mr. Tony Mathew\, Principal Transport Specialist\, TRL and Dr. John Fletcher\, Principal Consultant\, TRL\, UK (Topic: Systematic Approach for Maximising Road Safety Benefits) \n\n\n\nRecording of Fourth Webinar held on subject “Road Safety Management and Action Plan”
URL:https://indiairf.com/irf_india_events/4th-webinar-on-the-subject-road-safety-management-and-action-plan/
LOCATION:Online
CATEGORIES:IRF India events,IRF India webinars
ATTACH;FMTTYPE=image/png:https://indiairf.com/wp-content/uploads/2021/04/Untitled-design-15.png
END:VEVENT
END:VCALENDAR