BEGIN:VCALENDAR
VERSION:2.0
PRODID:-//IRF India Chapter - ECPv5.16.1.1//NONSGML v1.0//EN
CALSCALE:GREGORIAN
METHOD:PUBLISH
X-WR-CALNAME:IRF India Chapter
X-ORIGINAL-URL:https://indiairf.com
X-WR-CALDESC:Events for IRF India Chapter
REFRESH-INTERVAL;VALUE=DURATION:PT1H
X-Robots-Tag:noindex
X-PUBLISHED-TTL:PT1H
BEGIN:VTIMEZONE
TZID:Asia/Kolkata
BEGIN:STANDARD
TZOFFSETFROM:+0530
TZOFFSETTO:+0530
TZNAME:IST
DTSTART:20210101T000000
END:STANDARD
END:VTIMEZONE
BEGIN:VEVENT
DTSTART;TZID=Asia/Kolkata:20211215T163000
DTEND;TZID=Asia/Kolkata:20211215T190000
DTSTAMP:20260424T204643
CREATED:20211130T051658Z
LAST-MODIFIED:20211231T072448Z
UID:27487-1639585800-1639594800@indiairf.com
SUMMARY:12th Webinar on the subject "Sustainable Development with Road Safety"
DESCRIPTION:IRF India Chapter organized the 12th and the concluding Webinar in the series\, titled “Sustainable Development with Road Safety” on 15th December 2021 from 16:30 – 18:45 Hrs. \n\n\n\n\n\n\n\n\n\n \n\n\n\n\n\nAt the outset\, Mr. K.K. Kapila\, President (Emeritus)\, IRF\, and Founder President\, IRF-IC welcomed the participants and gave a brief review of the Webinar series. He informed that the Hon’ble Minister could not make it due to his preoccupation in the parliament\, however\, he has sent a message. \n\n\n\nHe welcomed the distinguished Speakers\, Panelists\, and attendees. The following Speakers and Panelists joined the Webinar and shared their thoughts and observations which are available on IRF-IC’s website www.indiairf.com \n\n\n\nThe Guest Speaker at the Webinar was Mr. K.C. Gupta\, Addl. Secretary\,Incharge Road Safety\, Ministry of Road Transport & Highways. Mr. Gupta shared his thoughts during the webinar. \n\n\n\nMs.Estibaliz Barañano\, Director General\, ASIMOB (Topic: Technology as Enabler for Sustainability in Mobility & Road Sector)Mr. K.K. Kapila\, President (Emeritus)\, IRF Geneva\, (Topic: What Works and What Does not for Road Safety in Developing World)Mrs. QuyLinh Nguyen\, Program Director\, AIPF-Vietnam (Topic: Sustainable Transport and Road Safety)Mr.Amit Bhatt\, Executive Director\, WRI India (Topic: Sustainable Development & Road Safety in Reference to India)\n\n\n\nRecording of 12th Webinar on the subject “Sustainable Development with Road Safety”
URL:https://indiairf.com/irf_india_events/12th-webinar-on-the-subject-sustainable-development-with-road-safety/
LOCATION:Online
CATEGORIES:IRF India events,IRF India webinars
ATTACH;FMTTYPE=image/png:https://indiairf.com/wp-content/uploads/2021/04/Untitled-design-15.png
END:VEVENT
END:VCALENDAR