BEGIN:VCALENDAR
VERSION:2.0
PRODID:-//IRF India Chapter - ECPv5.16.1.1//NONSGML v1.0//EN
CALSCALE:GREGORIAN
METHOD:PUBLISH
X-ORIGINAL-URL:https://indiairf.com
X-WR-CALDESC:Events for IRF India Chapter
REFRESH-INTERVAL;VALUE=DURATION:PT1H
X-Robots-Tag:noindex
X-PUBLISHED-TTL:PT1H
BEGIN:VTIMEZONE
TZID:Asia/Kolkata
BEGIN:STANDARD
TZOFFSETFROM:+0530
TZOFFSETTO:+0530
TZNAME:IST
DTSTART:20210101T000000
END:STANDARD
END:VTIMEZONE
BEGIN:VEVENT
DTSTART;TZID=Asia/Kolkata:20210728T163000
DTEND;TZID=Asia/Kolkata:20210728T184500
DTSTAMP:20260425T031618
CREATED:20210701T050320Z
LAST-MODIFIED:20210902T050035Z
UID:27005-1627489800-1627497900@indiairf.com
SUMMARY:7th Webinar on the subject "Intelligent Transport System (ITS) for Road Safety"
DESCRIPTION:IRF India Chapter organised the 7th Webinar in the series\, titled “Intelligent Transport System (ITS) for Road Safety” on 28th July 2021 from 16:30 – 18:45 Hrs. \n\n\n\n\n\n\nFLYER\n\n\n\n\n\n\nAt the outset\, Dr. S. Gangopadhyay\, President\, IRF-IC welcomed the participants at the Webinar. He set the context of the webinar and also briefed the participants about the forthcoming Webinars. \n\n\n\nSince\, Mr. K.K. Kapila\, President (Emeritus)\, IRF Geneva was unwell and unable to attend the webinar\, Mr. Somenath Ghosh\, Consultant\, ICT read out Mr. Kapila’s Keynote Address. \n\n\n\nVideos conveying the messages of Mr. Jean Todt\, United Nations Secretary General‘s Special Envoy for Road Safety and President\, FIA\, and Mr. Bill Halkias\, President\, IRF Geneva were played. The newly developed Road Safety Anthem was also played. \n\n\n\nDr.S. Gangopadhyay thereafter welcomed and introduced the Moderator of the Webinar\, Mr. Balraj Bhanot\, Former Director ARAI & Chairman CMVR-TSC\, and Invited him to moderate the Webinar. \n\n\n\nMr. Balraj Bhanot shared his insights on road safety with the participants and welcomed and introduced the Speakers. \n\n\n\nIn addition to Mr.Sudhendu Jyoti Sinha\, Advisor\, NITI Aayog\, who was the Guest Speaker at the Webinar\, the Webinar had five distinguished Speakers. \n\n\n\n1. Mr.Alok Sethi\, General Manager\, DIMTS (Topic: Smart& Enabling ITS Technologies for Road Safety) \n\n\n\n2. Dr.Madhusudan Joshi\, Head – Electronics Division\, ICAT (Topic: Smart& Enabling ITS Technologies for Road Safety) \n\n\n\n3.Mr.Chaitanya Y. Bhatt\, CEO\, Surat Smart City Ltd. (Topic: ITS Applications in Smart Cities) \n\n\n\n4. Dr.P.K. Sarkar\, Former Professor\, SPA (Topic: Application of ITS Technologies for Safety of Vulnerable Road Users) \n\n\n\n5. Mr.Prakash Rosayyan\, Joint Director\, CDAC (Topic: Indigenously Developed ITMS Components and the Use Cases) \n\n\n\nSumming up the insights gained from the five Presentations\, Mr. Balraj Bhanot conducted the Question & Answer session. An announcement was also made about the forthcoming 8th Webinar\, which is proposed to be held on 27th August 2021. \n\n\n\nRecording of Seventh Webinar held on subject “Intelligent Transport System (ITS) for Road Safety”
URL:https://indiairf.com/irf_india_events/7th-webinar-on-the-subject-intelligent-transport-system-its-for-road-safety/
LOCATION:Online
CATEGORIES:IRF India events,IRF India webinars
ATTACH;FMTTYPE=image/png:https://indiairf.com/wp-content/uploads/2021/04/Untitled-design-15.png
END:VEVENT
END:VCALENDAR